BEGIN:VCALENDAR
VERSION:2.0
PRODID:-//Urban Milwaukee - ECPv4.6.9//NONSGML v1.0//EN
CALSCALE:GREGORIAN
METHOD:PUBLISH
X-WR-CALNAME:Urban Milwaukee
X-ORIGINAL-URL:https://urbanmilwaukee.com
X-WR-CALDESC:Events for Urban Milwaukee
BEGIN:VEVENT
DTSTART;TZID=America/Chicago:20190424T170000
DTEND;TZID=America/Chicago:20190424T190000
DTSTAMP:20260422T163023
CREATED:20190423T204136Z
LAST-MODIFIED:20190423T204136Z
UID:451341-1556125200-1556132400@urbanmilwaukee.com
SUMMARY:Miller Park Job Fair
DESCRIPTION:Delaware North Sportservice\, the food and beverage partner of the Milwaukee Brewers\, will host an exciting hiring event at Miller Park Wednesday\, April 24th from 5 to 7 p.m. \nDelaware North Sportservice provides a great opportunity to jumpstart a career in hospitality\, earn extra income\, or get professional experience while spending the summer in the fun\, exciting atmosphere of Miller Park. \nApplicants with food service or retail lead experience are encouraged to apply to Concessions Supervisor positions. \nA majority of applicants receive job offers immediately at hiring events\, and positions are filling fast. Employment opportunities include concessions\, club level staff\, culinary\, food\, and beverage\, vending\, catering\, supervisors\, bartenders\, waitstaff\, and warehouse personnel. \nDelaware North Sportservice is dedicated to hiring a diverse and inclusive workforce. Applicants must be available to work evenings and weekends – all positions are event-driven. Successful candidates will receive paid training\, uniforms\, and free meals. \nApplicants should visit www.baseballmke.com to apply or call 414-902-4700 for more information. \nEnter through the northeast Hot Corner entrance (at TGI Friday’s Front Row Door) \n
URL:https://urbanmilwaukee.com/event/miller-park-job-fair/
LOCATION:1 Brewers Way\, Milwaukee\, WI\, 53214\, United States
CATEGORIES:Business,Food & Drink
ATTACH;FMTTYPE=image/png:https://urbanmilwaukee.com/wp-content/uploads/2019/04/shadeeah.png
END:VEVENT
END:VCALENDAR