BEGIN:VCALENDAR
VERSION:2.0
PRODID:-//Urban Milwaukee - ECPv4.6.9//NONSGML v1.0//EN
CALSCALE:GREGORIAN
METHOD:PUBLISH
X-WR-CALNAME:Urban Milwaukee
X-ORIGINAL-URL:https://urbanmilwaukee.com
X-WR-CALDESC:Events for Urban Milwaukee
BEGIN:VEVENT
DTSTART;TZID=America/Chicago:20201203T190000
DTEND;TZID=America/Chicago:20201203T200000
DTSTAMP:20260419T125435
CREATED:20201112T185848Z
LAST-MODIFIED:20201112T185848Z
UID:556521-1607022000-1607025600@urbanmilwaukee.com
SUMMARY:MIAD Creative Fusion Reimagined
DESCRIPTION:Join us on December 3\, 2020\, at 7 p.m. for a night of unexpected fun while staying cozy at home! Creative Fusion Reimagined is a fun\, engaging and non-ticketed virtual event as only the Milwaukee Institute of Art & Design (MIAD) can do! \nCreative Fusion Reimagined celebrates and supports:\n• Amazing art and design work\n• Creativity in Milwaukee\n• Students’ equitable access to a MIAD education and technology \nWe aim to raise at least $100\,000 to support 20 MIAD student scholarships and the purchase of 85 iPads for first-year students. \nRegister (for free) to attend the live-streamed event: https://miad2020.givesmart.com/ \nThank you to our sponsors\, including: Astor Street Foundation\, BMO Harris Bank\, Madeleine & David Lubar\, Peck Foundation Mke Ltd\, PNC Bank\, RINKA and Charlie & Rachel Uihlein. \n
URL:https://urbanmilwaukee.com/event/miad-creative-fusion-reimagined/
LOCATION:273 E. Erie St.\, Milwaukee\, WI\, 53202\, United States
CATEGORIES:Arts & Entertainment,Fundraiser,Virtual
ATTACH;FMTTYPE=image/jpeg:https://urbanmilwaukee.com/wp-content/uploads/2020/11/CFR_LinkedIn.jpg
END:VEVENT
END:VCALENDAR