BEGIN:VCALENDAR
VERSION:2.0
PRODID:-//Urban Milwaukee - ECPv4.6.9//NONSGML v1.0//EN
CALSCALE:GREGORIAN
METHOD:PUBLISH
X-WR-CALNAME:Urban Milwaukee
X-ORIGINAL-URL:https://urbanmilwaukee.com
X-WR-CALDESC:Events for Urban Milwaukee
BEGIN:VEVENT
DTSTART;TZID=America/Chicago:20190427T200000
DTEND;TZID=America/Chicago:20190427T233000
DTSTAMP:20260421T221748
CREATED:20190202T174915Z
LAST-MODIFIED:20190202T174915Z
UID:439099-1556395200-1556407800@urbanmilwaukee.com
SUMMARY:Más Soul\, Sunkin Suns and Josh Trimble
DESCRIPTION:Más Soul is a Milwaukee-born fusion band that plays tunes from genres including pop\, jazz\, latin\, reggae\, and light rock. From Santana to Bruno Mars\, Billy Joel to Maroon 5\, The Police to Prince\, Bob Marley to Eurythmics\, Amy Winehouse to Van Morrison\, Chains makers to 21 pilots\, Enanitos Verdes to Buena Vista Social Club etc etc of a borage of great music. \n“Heard them play at Westallion brewing in early September and was very impressed. A great group of musicians who truly love what they do. Can’t wait to see them again…” says a trusted source on facebook. \n$8 advance tickets available HERE or $10 at the door \n
URL:https://urbanmilwaukee.com/event/mas-soul-sunkin-suns-and-josh-trimble/
LOCATION:224 W. Bruce St.\, Milwaukee\, WI\, 53204\, United States
CATEGORIES:Arts & Entertainment
ATTACH;FMTTYPE=image/jpeg:https://urbanmilwaukee.com/wp-content/uploads/2019/01/04.27.19_MAS.SOUL_.jpg
END:VEVENT
END:VCALENDAR