BEGIN:VCALENDAR
VERSION:2.0
PRODID:-//Urban Milwaukee - ECPv4.6.9//NONSGML v1.0//EN
CALSCALE:GREGORIAN
METHOD:PUBLISH
X-WR-CALNAME:Urban Milwaukee
X-ORIGINAL-URL:https://urbanmilwaukee.com
X-WR-CALDESC:Events for Urban Milwaukee
BEGIN:VEVENT
DTSTART;TZID=America/Chicago:20190217T140000
DTEND;TZID=America/Chicago:20190217T153000
DTSTAMP:20260426T023043
CREATED:20190114T011557Z
LAST-MODIFIED:20190114T011557Z
UID:436128-1550412000-1550417400@urbanmilwaukee.com
SUMMARY:Marquette University Symphony Orchestra: Suites for Strings
DESCRIPTION:The Marquette University Symphony Orchestra will perform their annual winter concert at 2:00 p.m. Sunday\, February 17 at the Varsity Theatre\, 1326 W. Wisconsin Ave.\, Milwaukee. This performance is free and open to the public. \nThe symphony\, led by Maestro Erik Janners\, will be featuring several works from the strings literature for this concert\, such as Mozart‘s Divertimento No. 3 in F major\, K. 138\, Telemann‘s Don Quixote Suite\, and Leoš Janáček‘s Idyll for strings. Also on the program will be Gennady Chernov‘s Elgiac Poem. As always\, the performance is free and open to the public. For more information\, visit https://www.marquette.edu/orchestra. \n
URL:https://urbanmilwaukee.com/event/marquette-university-symphony-orchestra-suites-for-strings/
LOCATION:1326 W. Wisconsin Ave.\, Milwaukee\, WI\, 53233\, United States
CATEGORIES:Arts & Entertainment
ATTACH;FMTTYPE=image/jpeg:https://urbanmilwaukee.com/wp-content/uploads/2019/01/MUSO-2018.19-1.jpg
END:VEVENT
END:VCALENDAR