BEGIN:VCALENDAR
VERSION:2.0
PRODID:-//Urban Milwaukee - ECPv4.6.9//NONSGML v1.0//EN
CALSCALE:GREGORIAN
METHOD:PUBLISH
X-WR-CALNAME:Urban Milwaukee
X-ORIGINAL-URL:https://urbanmilwaukee.com
X-WR-CALDESC:Events for Urban Milwaukee
BEGIN:VEVENT
DTSTART;TZID=America/Chicago:20171008T140000
DTEND;TZID=America/Chicago:20171008T154500
DTSTAMP:20260423T232629
CREATED:20170722T183812Z
LAST-MODIFIED:20170722T183812Z
UID:369244-1507471200-1507477500@urbanmilwaukee.com
SUMMARY:Marquette University Symphony Orchestra: "Shall We Dance?"
DESCRIPTION:The Marquette University Symphony Orchestra presents their fall concert at 2:00 p.m. Sunday\, October 8 at the Varsity Theatre\, 1326 W. Wisconsin Ave.\, Milwaukee\, WI. This performance is free and open to the public. The symphony\, lead by Maestro Erik Janners\, presents a concert of electric dances. \nFor this performance\, the symphony strings will featured on Giuseppe Verdi’s Sinfonia for Strings (based on his String Quartet in E minor). Also on the program will be The Capriol Suite by Peter Warlock\, Choreography for Strings by Norman Dello Joio\, and Danzas de Panama (Dances of Panama) by William Grant Still. \n
URL:https://urbanmilwaukee.com/event/marquette-university-symphony-orchestra-shall-we-dance/
LOCATION:1326 W. Wisconsin Ave.\, Milwaukee\, WI\, 53233\, United States
CATEGORIES:Arts & Entertainment
ATTACH;FMTTYPE=image/png:https://urbanmilwaukee.com/wp-content/uploads/2017/07/MUSO-2015-2016.png
END:VEVENT
END:VCALENDAR