BEGIN:VCALENDAR
VERSION:2.0
PRODID:-//Urban Milwaukee - ECPv4.6.9//NONSGML v1.0//EN
CALSCALE:GREGORIAN
METHOD:PUBLISH
X-WR-CALNAME:Urban Milwaukee
X-ORIGINAL-URL:https://urbanmilwaukee.com
X-WR-CALDESC:Events for Urban Milwaukee
BEGIN:VEVENT
DTSTART;TZID=America/Chicago:20190428T140000
DTEND;TZID=America/Chicago:20190428T153000
DTSTAMP:20260421T201150
CREATED:20190114T020442Z
LAST-MODIFIED:20190114T020442Z
UID:436126-1556460000-1556465400@urbanmilwaukee.com
SUMMARY:Marquette University Symphony Orchestra: Mendelssohn's 'Italian'
DESCRIPTION:The Marquette University Symphony Orchestra will perform their annual spring concert at 2:00 p.m. Sunday\, April 28 at the Varsity Theatre\, 1326 W. Wisconsin Ave.\, Milwaukee. This performance is free and open to the public. \nThe symphony\, led by Maestro Erik Janners\, will be featuring two iconic works from the orchestral repertoire at this concert – Mendelssohn‘s spirited Symphony No. 4\, Op. 90\, “Italian” and Mozart‘s darkened Symphony No. 40 \, K. 550. The graduating seniors of the symphony will be recognized during the concert\, following intermission. This performance concludes the MUSO’s 2018-19 concert season. For more information\, visit https://www.marquette.edu/orchestra. \n
URL:https://urbanmilwaukee.com/event/marquette-university-symphony-orchestra-mendelssohns-italian/
LOCATION:1326 W. Wisconsin Ave.\, Milwaukee\, WI\, 53233\, United States
CATEGORIES:Arts & Entertainment
ATTACH;FMTTYPE=image/jpeg:https://urbanmilwaukee.com/wp-content/uploads/2019/01/MUSO-2018.19.jpg
END:VEVENT
END:VCALENDAR