BEGIN:VCALENDAR
VERSION:2.0
PRODID:-//Urban Milwaukee - ECPv4.6.9//NONSGML v1.0//EN
CALSCALE:GREGORIAN
METHOD:PUBLISH
X-WR-CALNAME:Urban Milwaukee
X-ORIGINAL-URL:https://urbanmilwaukee.com
X-WR-CALDESC:Events for Urban Milwaukee
BEGIN:VEVENT
DTSTART;TZID=America/Chicago:20170114T143000
DTEND;TZID=America/Chicago:20170114T163000
DTSTAMP:20260424T040935
CREATED:20161116T192614Z
LAST-MODIFIED:20161116T192650Z
UID:190387-1484404200-1484411400@urbanmilwaukee.com
SUMMARY:Marquette University presents Fancy Nancy
DESCRIPTION:Based on the books by Jane O’Connor \nIllustrated by Robin Preiss Glasser \nBook and Lyrics by Susan DiLallo \nMusic and Lyrics by Danny Abosch \nBased on Jane O’Connor’s best-selling book series\, Fancy Nancy is exuberant (that’s fancy for very excited!) to dance in the school ballet with her friends. When Nancy doesn’t get the part that she wanted\, can she still make being a dull tree très jolie and make the audience say ‘ooh-la-la’ just by being herself? Join us in your fanciest attire and learn how to be just as magnifique as Fancy Nancy! \n
URL:https://urbanmilwaukee.com/event/marquette-university-presents-fancy-nancy/
CATEGORIES:Arts & Entertainment
ATTACH;FMTTYPE=image/jpeg:https://urbanmilwaukee.com/wp-content/uploads/2016/11/Fancy-Nancy-Facebook.jpg
END:VEVENT
END:VCALENDAR