BEGIN:VCALENDAR
VERSION:2.0
PRODID:-//Urban Milwaukee - ECPv4.6.9//NONSGML v1.0//EN
CALSCALE:GREGORIAN
METHOD:PUBLISH
X-WR-CALNAME:Urban Milwaukee
X-ORIGINAL-URL:https://urbanmilwaukee.com
X-WR-CALDESC:Events for Urban Milwaukee
BEGIN:VEVENT
DTSTART;TZID=America/Chicago:20161007T150000
DTEND;TZID=America/Chicago:20161008T110000
DTSTAMP:20260424T043351
CREATED:20160825T050728Z
LAST-MODIFIED:20160825T050728Z
UID:178956-1475852400-1475924400@urbanmilwaukee.com
SUMMARY:Marquette University Homecoming
DESCRIPTION:Community members are invited to join us for the Homecoming Block Party and Blue and Gold Color Run. Partake in the fun\, enjoy great food\, experience some hearty competition and create lifelong memories during Homecoming 2016. \nFRIDAY\, OCTOBER 7\, 2016\nBlock Party | 3 p.m. to 7 p.m.\, Parking Lot F (across from the Al McGuire Center)\nEnjoy music\, food and friends as we get ready to kick off Marquette Madness. \nSATURDAY\, OCTOBER 8\, 2016\nBlue and Gold Color Run | 11 a.m.\, Marquette Campus\nGet ready for a burst of blue and gold as the Marquette Nation takes to the streets of campus for a 5k run and walk. Proceeds from this event will support Marquette’s Midnight Run\, a volunteer service program focused on the particular needs of the hungry and homeless people living in the community around Marquette. \n
URL:https://urbanmilwaukee.com/event/marquette-university-homecoming/
LOCATION:1442 W. Wisconsin Ave.\, Milwaukee\, WI\, 53233\, United States
CATEGORIES:Arts & Entertainment,Food & Drink
ATTACH;FMTTYPE=image/jpeg:https://urbanmilwaukee.com/wp-content/uploads/2016/07/ADV-Homecoming-Marquette-Today-16.jpg
END:VEVENT
END:VCALENDAR