BEGIN:VCALENDAR
VERSION:2.0
PRODID:-//Urban Milwaukee - ECPv4.6.9//NONSGML v1.0//EN
CALSCALE:GREGORIAN
METHOD:PUBLISH
X-WR-CALNAME:Urban Milwaukee
X-ORIGINAL-URL:https://urbanmilwaukee.com
X-WR-CALDESC:Events for Urban Milwaukee
BEGIN:VEVENT
DTSTART;TZID=America/Chicago:20210612T110000
DTEND;TZID=America/Chicago:20210612T170000
DTSTAMP:20260421T101159
CREATED:20210510T222144Z
LAST-MODIFIED:20210510T222144Z
UID:598487-1623495600-1623517200@urbanmilwaukee.com
SUMMARY:Margarita Fest
DESCRIPTION:It’s Margarita Madness! The Shepherd Express is hosting the 4th Annual Margarita Fest on Saturday\, June 12th at Bottle House 42 (formerly Glass + Griddle).\nSample from Milwaukee’s best margarita-makers and vote on your favorite Don Julio Blanco or Cazadores Reposado marg. We’ll crown a winner at the end of the night! Stay tuned for a list of restaurant competitors.\nTICKETS: $28 / session\nGroup 1 – 11 a.m.\nGroup 2 – 2 p.m .\nThis is a 21+ event. Each session will receive 12+ margarita samples\, munchies\, and other fun features.\nMasks are required when not sampling. We encourage attendees to maintain 6ft apart from other groups and follow the flow of traffic while moving between vendor booths. \n
URL:https://urbanmilwaukee.com/event/margarita-fest/
LOCATION:1130 N. 9th St.\, Milwaukee\, WI\, 53233\, United States
CATEGORIES:Food & Drink
ATTACH;FMTTYPE=image/jpeg:https://urbanmilwaukee.com/wp-content/uploads/2021/05/MargaritaFest_Social.jpg
END:VEVENT
END:VCALENDAR