BEGIN:VCALENDAR
VERSION:2.0
PRODID:-//Urban Milwaukee - ECPv4.6.9//NONSGML v1.0//EN
CALSCALE:GREGORIAN
METHOD:PUBLISH
X-WR-CALNAME:Urban Milwaukee
X-ORIGINAL-URL:https://urbanmilwaukee.com
X-WR-CALDESC:Events for Urban Milwaukee
BEGIN:VEVENT
DTSTART;TZID=America/Chicago:20221007T193000
DTEND;TZID=America/Chicago:20221007T193000
DTSTAMP:20260419T164627
CREATED:20221010T115500Z
LAST-MODIFIED:20221010T115500Z
UID:671112-1665171000-1665171000@urbanmilwaukee.com
SUMMARY:MAMMA MIA!
DESCRIPTION:MAMMA MIA!\nSept. 23 – Oct. 16\, 2022 \nMusic and Lyrics by Benny Andersson\, Björn Ulvaeus\nand some songs with Stig Anderson\nBook by Catherine Johnson\nOriginally concieved by Judy Craymer \nTravel to a Greek island paradise for this ultimate feel-good show! Hit music from the super group ABBA tells the humorous and touching story of a young woman’s search for her birth father on the eve of her wedding. A mother. A daughter. Three possible dads. 23 hits. And a trip down the aisle you’ll never forget! \nOpening Night Sponsors Herb Zien and Liz Levins \n
URL:https://urbanmilwaukee.com/event/mamma-mia-9/
LOCATION:158 N. Broadway\, Milwaukee\, WI\, 53202\, United States
CATEGORIES:Arts & Entertainment
ATTACH;FMTTYPE=image/jpeg:https://urbanmilwaukee.com/wp-content/uploads/2022/10/mm.jpg
END:VEVENT
END:VCALENDAR