BEGIN:VCALENDAR
VERSION:2.0
PRODID:-//Urban Milwaukee - ECPv4.6.9//NONSGML v1.0//EN
CALSCALE:GREGORIAN
METHOD:PUBLISH
X-WR-CALNAME:Urban Milwaukee
X-ORIGINAL-URL:https://urbanmilwaukee.com
X-WR-CALDESC:Events for Urban Milwaukee
BEGIN:VEVENT
DTSTART;TZID=America/Chicago:20190325T113000
DTEND;TZID=America/Chicago:20190325T130000
DTSTAMP:20260422T151059
CREATED:20190312T122837Z
LAST-MODIFIED:20190312T122837Z
UID:444201-1553513400-1553518800@urbanmilwaukee.com
SUMMARY:Lunch & Learn: Let's Taco-bout it!
DESCRIPTION:We all love Tacos – but how did this Latin American street food become of the most popular foods in the U.S.? Why are tortillas and tacos so vital to to the various cultures of Latin America? Learn more about the cultural history of this culinary treat. How has the industry evolved and incorporated other cultures? Try tacos from several local taco experts while learning the real scoop behind our love of this culinary delight. \n
URL:https://urbanmilwaukee.com/event/lunch-learn-lets-taco-bout-it/
LOCATION:1028 S. 9th St.\, Milwaukee\, WI\, 53204\, United States
CATEGORIES:Food & Drink
ATTACH;FMTTYPE=image/jpeg:https://urbanmilwaukee.com/wp-content/uploads/2019/03/DSC07794.jpg
END:VEVENT
END:VCALENDAR