BEGIN:VCALENDAR
VERSION:2.0
PRODID:-//Urban Milwaukee - ECPv4.6.9//NONSGML v1.0//EN
CALSCALE:GREGORIAN
METHOD:PUBLISH
X-WR-CALNAME:Urban Milwaukee
X-ORIGINAL-URL:https://urbanmilwaukee.com
X-WR-CALDESC:Events for Urban Milwaukee
BEGIN:VEVENT
DTSTART;TZID=America/Chicago:20260208T130000
DTEND;TZID=America/Chicago:20260208T130000
DTSTAMP:20260425T113620
CREATED:20251029T203005Z
LAST-MODIFIED:20251029T203005Z
UID:914922-1770555600-1770555600@urbanmilwaukee.com
SUMMARY:Lovabye Dragon
DESCRIPTION:Adapted from the Dragon and Girl books by Barbara Joosse \n\nBy Jeff Frank and Barbara Joosse\nMusic by The Happy Racers\n“Let’s Go” and “We Want Your Gold” by Nathan Meckel\nLyrics by N. Meckel\, B. Joose\, T. Matthews\, B. Glover\, and B. Collin \nDirected by Marion Frank \nAn enchanting musical of unexpected friendship between a lonely girl and an even lonelier dragon. Together they embark on a grand adventure to the farthest far away only to face their greatest challenge. Covering three books in the Dragon and Girl series by Wisconsin author Barbara Joosse — Lovabye Dragon\, Evermore Dragon\, and Sail Away Dragon — this adaptation with infectious music and lyrics by The Happy Racers is sure to put a smile on everyone’s face\, lift your spirits\, and get you singing and dancing along! \nAge Recommendation \nThe age recommendation of this play is: Recommended for families with young people ages 3-8 and brave explorers of all ages\n\n
URL:https://urbanmilwaukee.com/event/lovabye-dragon-15/
LOCATION:325 W. Walnut St.\, Milwaukee\, WI\, 53212\, United States
CATEGORIES:Arts & Entertainment,Kids
ATTACH;FMTTYPE=image/jpeg:https://urbanmilwaukee.com/wp-content/uploads/2025/10/LovabyeDragon-LandingThumbnail-v2.jpg
END:VEVENT
END:VCALENDAR