BEGIN:VCALENDAR
VERSION:2.0
PRODID:-//Urban Milwaukee - ECPv4.6.9//NONSGML v1.0//EN
CALSCALE:GREGORIAN
METHOD:PUBLISH
X-WR-CALNAME:Urban Milwaukee
X-ORIGINAL-URL:https://urbanmilwaukee.com
X-WR-CALDESC:Events for Urban Milwaukee
BEGIN:VEVENT
DTSTART;TZID=America/Chicago:20161022T104500
DTEND;TZID=America/Chicago:20161022T120000
DTSTAMP:20260424T170528
CREATED:20161007T183258Z
LAST-MODIFIED:20161007T183258Z
UID:184442-1477133100-1477137600@urbanmilwaukee.com
SUMMARY:Live: Bodies in Sport
DESCRIPTION:This event is part of the Wisconsin Science Festival. \nExplore the human body in this hands-on experience where you investigate bones and muscles used in common sports. Live models with “painted” muscles will help you recognize opportunities for injury prevention. Then\, guided by researchers in the College of Health Sciences\, learn a technique used for stress management and maintenance of well-being in all areas of life. With this simple exercise\, you can regulate your mind and body to optimize health and performance. \n
URL:https://urbanmilwaukee.com/event/live-bodies-in-sport/
LOCATION:3409 N Downer Ave\, Milwaukee\, WI\, 53211\, United States
CATEGORIES:Arts & Entertainment
ATTACH;FMTTYPE=image/jpeg:https://urbanmilwaukee.com/wp-content/uploads/2016/09/event-motion.jpg
END:VEVENT
END:VCALENDAR