BEGIN:VCALENDAR
VERSION:2.0
PRODID:-//Urban Milwaukee - ECPv4.6.9//NONSGML v1.0//EN
CALSCALE:GREGORIAN
METHOD:PUBLISH
X-WR-CALNAME:Urban Milwaukee
X-ORIGINAL-URL:https://urbanmilwaukee.com
X-WR-CALDESC:Events for Urban Milwaukee
BEGIN:VEVENT
DTSTART;TZID=America/Chicago:20191031T190000
DTEND;TZID=America/Chicago:20191031T210000
DTSTAMP:20260424T213253
CREATED:20191021T034618Z
LAST-MODIFIED:20191021T034618Z
UID:480109-1572548400-1572555600@urbanmilwaukee.com
SUMMARY:Linking Houdini: A Halloween Séance
DESCRIPTION:Houdini died on Halloween of 1926. Every year since his death\, a séance has been held to see if he could cross the veil and prove the spiritual afterlife existed. This year\, Jewish Museum Milwaukee will try to connect with Houdini in the state where he learned the literal tricks of his trade\, and perhaps he will once again make an appearance! \nFind your fortune with roving tarot card readers and get your spook on with a moody museum tour. Dress up in your best Halloween costume; prizes will be selected for “Best in Show” and “Best Houdini Look-Alike” costumes. Imbibe your favorite drink at our cash bar provided by Pour\, Inc. \nOur séance will be presented by Milwaukee’s best psychic\, Mary Ellen Pride. Mary Ellen will also give four 10-minute individual readings throughout the evening at a premium. Up to three people can be in the room for individual readings. \nTicket: Museum Members $20 | Nonmembers $25 \n
URL:https://urbanmilwaukee.com/event/linking-houdini-a-halloween-seance/
LOCATION:1360 N. Prospect Ave.\, Milwaukee\, WI\, 53202\, United States
CATEGORIES:Arts & Entertainment
ATTACH;FMTTYPE=image/png:https://urbanmilwaukee.com/wp-content/uploads/2017/06/Jewish-Museum-Milwaukee-logo-4.png
END:VEVENT
END:VCALENDAR