BEGIN:VCALENDAR
VERSION:2.0
PRODID:-//Urban Milwaukee - ECPv4.6.9//NONSGML v1.0//EN
CALSCALE:GREGORIAN
METHOD:PUBLISH
X-WR-CALNAME:Urban Milwaukee
X-ORIGINAL-URL:https://urbanmilwaukee.com
X-WR-CALDESC:Events for Urban Milwaukee
BEGIN:VEVENT
DTSTART;TZID=America/Chicago:20190325T173000
DTEND;TZID=America/Chicago:20190325T200000
DTSTAMP:20260422T165239
CREATED:20190312T114233Z
LAST-MODIFIED:20190312T114233Z
UID:444593-1553535000-1553544000@urbanmilwaukee.com
SUMMARY:Life After Life - Film Screening and Panel Discussion
DESCRIPTION:Life After Life follows the stories of Harrison\, Noel\, and Chris as they return home from San Quentin State Prison. After spending most of their lives incarcerated\, they are forced to reconcile their perception of themselves with a reality they are unprepared for. \nEach struggles to overcome personal demons and reconstruct their fractured lives. Grappling with day-to-day challenges and striving for success\, they work to reconnect with family and provide for themselves for the first time in their adult lives. \nTold in an unadorned verite style\, we experience the truth of their heartaches and triumphs. As their stories unfold over weeks\, months and years\, the precarious nature of freedom after incarceration in America is revealed. \n
URL:https://urbanmilwaukee.com/event/life-after-life-film-screening-and-panel-discussion/
LOCATION:2200 E Kenwood Blvd\, Milwaukee\, WI\, Milwaukee\, 53211\, United States
CATEGORIES:Arts & Entertainment
ATTACH;FMTTYPE=image/jpeg:https://urbanmilwaukee.com/wp-content/uploads/2019/03/lifeafterlife.jpg
END:VEVENT
END:VCALENDAR