BEGIN:VCALENDAR
VERSION:2.0
PRODID:-//Urban Milwaukee - ECPv4.6.9//NONSGML v1.0//EN
CALSCALE:GREGORIAN
METHOD:PUBLISH
X-WR-CALNAME:Urban Milwaukee
X-ORIGINAL-URL:https://urbanmilwaukee.com
X-WR-CALDESC:Events for Urban Milwaukee
BEGIN:VEVENT
DTSTART;TZID=America/Chicago:20190711T200000
DTEND;TZID=America/Chicago:20190711T213000
DTSTAMP:20260421T174218
CREATED:20190703T031943Z
LAST-MODIFIED:20190703T031943Z
UID:462347-1562875200-1562880600@urbanmilwaukee.com
SUMMARY:Lex Allen
DESCRIPTION:Singer/songwriter that connects all ages\, gender\, genres\, and races at his over the top emotional roller-coaster of a live show. \n
URL:https://urbanmilwaukee.com/event/lex-allen/
LOCATION:139 E. Kilbourn Ave.\, Milwaukee\, WI\, 53202\, United States
CATEGORIES:Arts & Entertainment
ATTACH;FMTTYPE=image/jpeg:https://urbanmilwaukee.com/wp-content/uploads/2019/07/LEX-ALLEN.jpeg
END:VEVENT
END:VCALENDAR