BEGIN:VCALENDAR
VERSION:2.0
PRODID:-//Urban Milwaukee - ECPv4.6.9//NONSGML v1.0//EN
CALSCALE:GREGORIAN
METHOD:PUBLISH
X-WR-CALNAME:Urban Milwaukee
X-ORIGINAL-URL:https://urbanmilwaukee.com
X-WR-CALDESC:Events for Urban Milwaukee
BEGIN:VEVENT
DTSTART;TZID=America/Chicago:20190323T120000
DTEND;TZID=America/Chicago:20190323T160000
DTSTAMP:20260422T181839
CREATED:20190217T220000Z
LAST-MODIFIED:20190217T220037Z
UID:439659-1553342400-1553356800@urbanmilwaukee.com
SUMMARY:Urban Agriculture/Future Farming A LEGO/K'nex Building Workshop
DESCRIPTION:A fun event for all ages! The seventh annual LEGO/K’nex building workshop\, led by John and Sylvia Peine\, offers the opportunity to imagine and construct the cities and farms of tomorrow. Add your creation to a miniature city built on-site at the Museum. \n
URL:https://urbanmilwaukee.com/event/legoknex-building-workshop/
LOCATION:1000 N. Broadway\, Milwaukee\, WI\, 53202\, United States
CATEGORIES:Arts & Entertainment
ATTACH;FMTTYPE=image/jpeg:https://urbanmilwaukee.com/wp-content/uploads/2019/02/Lego-Workshop.jpg
END:VEVENT
END:VCALENDAR