BEGIN:VCALENDAR
VERSION:2.0
PRODID:-//Urban Milwaukee - ECPv4.6.9//NONSGML v1.0//EN
CALSCALE:GREGORIAN
METHOD:PUBLISH
X-WR-CALNAME:Urban Milwaukee
X-ORIGINAL-URL:https://urbanmilwaukee.com
X-WR-CALDESC:Events for Urban Milwaukee
BEGIN:VEVENT
DTSTART;TZID=America/Chicago:20190423T113000
DTEND;TZID=America/Chicago:20190423T130000
DTSTAMP:20260422T150015
CREATED:20190313T183346Z
LAST-MODIFIED:20190313T183346Z
UID:445212-1556019000-1556024400@urbanmilwaukee.com
SUMMARY:Laughing Lunch
DESCRIPTION:Break up your usual lunch routine and join us for some laughs! Milwaukee Comedy and NEWaukee team up again to bring you a lineup of Milwaukee’s best comics. Complimentary lunch will be provided! \nMilwaukee Comedy is Milwaukee’s premiere live comedy production company\, presenting dozens of unique and original events every year in intimate and exciting venues across Milwaukee. \n
URL:https://urbanmilwaukee.com/event/laughing-lunch/
LOCATION:1037 W. Juneau Ave.\, Milwaukee\, 53233\, United States
CATEGORIES:Food & Drink
ATTACH;FMTTYPE=image/jpeg:https://urbanmilwaukee.com/wp-content/uploads/2019/03/LaughingLunch_YPWeekWeb.jpg
END:VEVENT
END:VCALENDAR