BEGIN:VCALENDAR
VERSION:2.0
PRODID:-//Urban Milwaukee - ECPv4.6.9//NONSGML v1.0//EN
CALSCALE:GREGORIAN
METHOD:PUBLISH
X-WR-CALNAME:Urban Milwaukee
X-ORIGINAL-URL:https://urbanmilwaukee.com
X-WR-CALDESC:Events for Urban Milwaukee
BEGIN:VEVENT
DTSTART;TZID=America/Chicago:20160924T193000
DTEND;TZID=America/Chicago:20160924T220000
DTSTAMP:20260425T142009
CREATED:20160825T051230Z
LAST-MODIFIED:20160825T051230Z
UID:177301-1474745400-1474754400@urbanmilwaukee.com
SUMMARY:Latino Arts - Noche de Gala
DESCRIPTION:Don’t miss Latino Arts’ annual fundraiser for cultural arts education! Treat your ears to live Salsa\, Cumbia\, and Bolero from Edward’s Latin Ensemble featuring Bruce-Guadalupe Community School alum Alejandro Cortés\, and enjoy special performances from the Latino Arts Strings Program & Mariachi Juvenil. \nPlus\, step up your skills with dance demonstrations and group lessons\, auctions and raffles\, and tapas and sangria from our own Café el Sol! \nShow your commitment to arts education by purchasing your table or sponsoring the event; call (414) 384-3100 or email info@latinoartsinc.org. \n
URL:https://urbanmilwaukee.com/event/latino-arts-noche-de-gala/
CATEGORIES:Arts & Entertainment
ATTACH;FMTTYPE=image/jpeg:https://urbanmilwaukee.com/wp-content/uploads/2016/07/Noche-de-Gala.jpg
END:VEVENT
END:VCALENDAR