BEGIN:VCALENDAR
VERSION:2.0
PRODID:-//Urban Milwaukee - ECPv4.6.9//NONSGML v1.0//EN
CALSCALE:GREGORIAN
METHOD:PUBLISH
X-WR-CALNAME:Urban Milwaukee
X-ORIGINAL-URL:https://urbanmilwaukee.com
X-WR-CALDESC:Events for Urban Milwaukee
BEGIN:VEVENT
DTSTART;TZID=America/Chicago:20160915T180000
DTEND;TZID=America/Chicago:20160915T210000
DTSTAMP:20260424T042601
CREATED:20161101T100528Z
LAST-MODIFIED:20161101T100604Z
UID:182224-1473962400-1473973200@urbanmilwaukee.com
SUMMARY:Lanterns at the Light
DESCRIPTION:This year’s North Point Lighthouse annual fundraiser is based on the traditional Mid-Autumn Asian Festival. We are also commemorating the relighting of the Lighthouse tower. \n• Asian cuisine by Rice N Roll Bistro\n• Exhibit of handmade artisan lanterns\n• Silent auction\n• Cash bar \nPurchase your tickets online at http://northpointlighthouse.org/lanterns \n$65 – Members\n$75 – Non-member Guests\nSPECIAL OFFER: $100 for event entry – P L U S – an Individual Membership for a year\nAttire: Cocktail \nQuestions? Contact keeper@northpointlighthouse.org or 414.332.6754 \n
URL:https://urbanmilwaukee.com/event/lanterns-at-the-light/
CATEGORIES:Arts & Entertainment,Food & Drink
ATTACH;FMTTYPE=image/jpeg:https://urbanmilwaukee.com/wp-content/uploads/2016/08/lanterns-at-the-north-point-lighthouse.jpg
END:VEVENT
END:VCALENDAR