BEGIN:VCALENDAR
VERSION:2.0
PRODID:-//Urban Milwaukee - ECPv4.6.9//NONSGML v1.0//EN
CALSCALE:GREGORIAN
METHOD:PUBLISH
X-WR-CALNAME:Urban Milwaukee
X-ORIGINAL-URL:https://urbanmilwaukee.com
X-WR-CALDESC:Events for Urban Milwaukee
BEGIN:VEVENT
DTSTART;TZID=America/Chicago:20230820T110000
DTEND;TZID=America/Chicago:20230820T160000
DTSTAMP:20260424T013502
CREATED:20230805T053144Z
LAST-MODIFIED:20230805T053144Z
UID:735635-1692529200-1692547200@urbanmilwaukee.com
SUMMARY:Lakeside at MAM
DESCRIPTION:Celebrate summer on the lakefront at the Milwaukee Art Museum’s free event series Lakeside at MAM! Come enjoy a genre-spanning lineup of local musicians and DJs; yoga\, meditation\, and dance classes; and art making with the Kohl’s Art Studio. \nWeather permitting\, enjoy this lineup of performers and activities. \n11 a.m. to 4 p.m. | Kohl’s Art Studio \n11 a.m. to 12 p.m. | Embody Yoga \n12 p.m. to 1 p.m. | Father Sky \n2 p.m.  to 3 p.m. | The Anne Heaton Band \n3 p.m. to 4 p.m. | Betsy Ade & the Well-Known Strangers \n
URL:https://urbanmilwaukee.com/event/lakeside-at-mam-11/
LOCATION:700 N Art Museum Dr\, Milwaukee\, WI\, 53202\, United States
CATEGORIES:Arts & Entertainment
ATTACH;FMTTYPE=image/jpeg:https://urbanmilwaukee.com/wp-content/uploads/2023/06/202107_SPE_Lakeside_Superfans_GMCreative_006-scaled.jpg
END:VEVENT
END:VCALENDAR