BEGIN:VCALENDAR
VERSION:2.0
PRODID:-//Urban Milwaukee - ECPv4.6.9//NONSGML v1.0//EN
CALSCALE:GREGORIAN
METHOD:PUBLISH
X-WR-CALNAME:Urban Milwaukee
X-ORIGINAL-URL:https://urbanmilwaukee.com
X-WR-CALDESC:Events for Urban Milwaukee
BEGIN:VEVENT
DTSTART;TZID=America/Chicago:20190623T100000
DTEND;TZID=America/Chicago:20190623T170000
DTSTAMP:20260420T100546
CREATED:20190509T004857Z
LAST-MODIFIED:20190509T004857Z
UID:454099-1561284000-1561309200@urbanmilwaukee.com
SUMMARY:Lakefront Festival of Art
DESCRIPTION:For over fifty years\, the Lakefront Festival of Art has been bringing art to life on Milwaukee’s lakefront. Started in 1963\, this three-day fund-raising event has evolved from a gathering of a handful of artists to a vibrant\, exciting\, and wide-ranging festival with something for everyone. With close to 25\,000 attendees and over 170 jury-selected artists from across the nation\, the Lakefront Festival of Art is a fun-filled destination with art\, food\, music\, and activities for the whole family. What you find here may surprise you. Named one of the top twenty art festivals in the country\, the Lakefront Festival of Art is a showcase of paintings\, ceramics\, fiber\, metalwork\, jewelry\, and more\, all available in a broad range of prices. \n
URL:https://urbanmilwaukee.com/event/lakefront-festival-of-art-3/
LOCATION:700 N Art Museum Dr\, Milwaukee\, WI\, 53202\, United States
CATEGORIES:Arts & Entertainment
ATTACH;FMTTYPE=image/jpeg:https://urbanmilwaukee.com/wp-content/uploads/2019/05/FRPhoto_180615-17EA_C1_316.jpg
END:VEVENT
END:VCALENDAR