BEGIN:VCALENDAR
VERSION:2.0
PRODID:-//Urban Milwaukee - ECPv4.6.9//NONSGML v1.0//EN
CALSCALE:GREGORIAN
METHOD:PUBLISH
X-WR-CALNAME:Urban Milwaukee
X-ORIGINAL-URL:https://urbanmilwaukee.com
X-WR-CALDESC:Events for Urban Milwaukee
BEGIN:VEVENT
DTSTART;TZID=America/Chicago:20190427T100000
DTEND;TZID=America/Chicago:20190427T170000
DTSTAMP:20260422T015542
CREATED:20190425T112401Z
LAST-MODIFIED:20190425T112438Z
UID:450273-1556359200-1556384400@urbanmilwaukee.com
SUMMARY:Lake Country Antiques\, Art & Garden Show
DESCRIPTION:If you are looking for quality antiques from the 18th\, 19th and 20th centuries\, dealers from the Midwest to the east coast will offer their antiques and decorative arts to collectors at the Lake Country Antique Art & Garden Show held at Waukesha County Expo Center. The show dates are Friday\, Saturday\, and Sunday\, April 26th\, 27th & 28th\, 2019. \nThe dealers display their antique treasures including country and formal furniture\, folk art\, textiles\, oriental rugs\, antique and vintage jewelry\, civil war items\, stoneware\, decoys\, sporting items\, advertising and many other categories in the room setting booths. \nThere is a food court on site. \n
URL:https://urbanmilwaukee.com/event/lake-country-antiques-art-garden-show-2/
LOCATION:1000 Northview Rd.\, Waukesha\, WI\, 53186\, United States
CATEGORIES:Arts & Entertainment
ATTACH;FMTTYPE=image/jpeg:https://urbanmilwaukee.com/wp-content/uploads/2019/04/3-1.jpg
END:VEVENT
END:VCALENDAR