BEGIN:VCALENDAR
VERSION:2.0
PRODID:-//Urban Milwaukee - ECPv4.6.9//NONSGML v1.0//EN
CALSCALE:GREGORIAN
METHOD:PUBLISH
X-WR-CALNAME:Urban Milwaukee
X-ORIGINAL-URL:https://urbanmilwaukee.com
X-WR-CALDESC:Events for Urban Milwaukee
BEGIN:VEVENT
DTSTART;TZID=America/Chicago:20191206T193000
DTEND;TZID=America/Chicago:20191206T220000
DTSTAMP:20260422T171531
CREATED:20190703T033358Z
LAST-MODIFIED:20190703T033358Z
UID:461677-1575660600-1575669600@urbanmilwaukee.com
SUMMARY:LADAMA
DESCRIPTION:LADAMA is an ensemble of women musicians from across the Americas who\, as well as performing as a touring band\, strive to engage youth in their respective communities in the process of music-making\, composition and audio production through collaboration and performance workshops. They are Mafer Bandola (Venezuela)\, Lara Klaus (Brazil)\, Daniela Serna (Colombia) and Sara Lucas (U.S.). With rhythm and percussion driving their original compositions sung in Spanish\, Portuguese and English they combine disparate\, traditional roots music with pop. The result is a sonic experience through which we can view our future as a world that communicates across continents and cultures\, with sound and story. \n
URL:https://urbanmilwaukee.com/event/ladama/
LOCATION:1028 S. 9th St.\, Milwaukee\, WI\, 53204\, United States
CATEGORIES:Arts & Entertainment
ATTACH;FMTTYPE=image/jpeg:https://urbanmilwaukee.com/wp-content/uploads/2019/06/ladama_press_sept_2017_-2-1.jpg
END:VEVENT
END:VCALENDAR