BEGIN:VCALENDAR
VERSION:2.0
PRODID:-//Urban Milwaukee - ECPv4.6.9//NONSGML v1.0//EN
CALSCALE:GREGORIAN
METHOD:PUBLISH
X-WR-CALNAME:Urban Milwaukee
X-ORIGINAL-URL:https://urbanmilwaukee.com
X-WR-CALDESC:Events for Urban Milwaukee
BEGIN:VEVENT
DTSTART;TZID=America/Chicago:20171015T100000
DTEND;TZID=America/Chicago:20171015T160000
DTSTAMP:20260423T191834
CREATED:20170922T175918Z
LAST-MODIFIED:20170922T175918Z
UID:375635-1508061600-1508083200@urbanmilwaukee.com
SUMMARY:Kohl’s Art Generation Family Sundays: Día de los Muertos
DESCRIPTION:Celebrate this cultural tradition with family and friends. Experience Mexican folkloric dance and traditional costumes\, and learn more about Day of the Dead through hands-on art activities. Learn from visiting artists\, enjoy performances\, and contribute to the community ofrenda. \nKohl’s Art Generation Family Sundays are free with Museum admission\, and kids 12 and under are free every day the Museum is open thanks to Kohl’s Cares. Free for Museum members as well as Boys and Girls Club of Greater Milwaukee members. \n
URL:https://urbanmilwaukee.com/event/kohls-art-generation-family-sundays-dia-de-los-muertos/
LOCATION:700 N Art Museum Dr\, Milwaukee\, WI\, 53202\, United States
CATEGORIES:Arts & Entertainment
ATTACH;FMTTYPE=image/jpeg:https://urbanmilwaukee.com/wp-content/uploads/2017/09/FRPhoto_141019N_C1_093.jpg
END:VEVENT
END:VCALENDAR