BEGIN:VCALENDAR
VERSION:2.0
PRODID:-//Urban Milwaukee - ECPv4.6.9//NONSGML v1.0//EN
CALSCALE:GREGORIAN
METHOD:PUBLISH
X-WR-CALNAME:Urban Milwaukee
X-ORIGINAL-URL:https://urbanmilwaukee.com
X-WR-CALDESC:Events for Urban Milwaukee
BEGIN:VEVENT
DTSTART;TZID=America/Chicago:20241110T110000
DTEND;TZID=America/Chicago:20241110T160000
DTSTAMP:20260420T161750
CREATED:20241105T035134Z
LAST-MODIFIED:20241105T035134Z
UID:815885-1731236400-1731254400@urbanmilwaukee.com
SUMMARY:Kids Music Fest
DESCRIPTION:DREAM! DISCOVER! DO! Get ready for this fun filled event where kids can create music\, experience music and families can meet the area music organizations where kids can get involved. We’ve got tons of activities planned for all ages! \n
URL:https://urbanmilwaukee.com/event/kids-music-fest/
LOCATION:325 W. Walnut St.\, Milwaukee\, WI\, 53212\, United States
CATEGORIES:Arts & Entertainment,Kids
ATTACH;FMTTYPE=image/jpeg:https://urbanmilwaukee.com/wp-content/uploads/2024/10/xrd0ej_-WEWfeGpT3bF9Qg.large_.jpg
END:VEVENT
END:VCALENDAR