BEGIN:VCALENDAR
VERSION:2.0
PRODID:-//Urban Milwaukee - ECPv4.6.9//NONSGML v1.0//EN
CALSCALE:GREGORIAN
METHOD:PUBLISH
X-WR-CALNAME:Urban Milwaukee
X-ORIGINAL-URL:https://urbanmilwaukee.com
X-WR-CALDESC:Events for Urban Milwaukee
BEGIN:VEVENT
DTSTART;TZID=America/Chicago:20190730T183000
DTEND;TZID=America/Chicago:20190730T203000
DTSTAMP:20260422T110940
CREATED:20190607T121239Z
LAST-MODIFIED:20190607T121239Z
UID:458207-1564511400-1564518600@urbanmilwaukee.com
SUMMARY:Kids From Wisconsin Sensory Friendly Performance
DESCRIPTION:A modified Kids From Wisconsin performance for the enjoyment of people with sensory sensitivities. \nThis Sensory Friendly performance is modified and designed to create a performing arts experience that is welcoming to all families with children and adults with autism or with other disabilities that create sensory sensitivities. \nFree Admission\, although please register your attendance for seat availability. http://tinyurl.com/y59aycvd or call 414-266-7067 \n
URL:https://urbanmilwaukee.com/event/kids-from-wisconsin-sensory-friendly-performance/
LOCATION:8815 W. Wisconsin Ave. \, Milwaukee\, WI\, 53226\, United States
CATEGORIES:Arts & Entertainment
ATTACH;FMTTYPE=image/jpeg:https://urbanmilwaukee.com/wp-content/uploads/2019/06/Sensory-Friendly.jpg
END:VEVENT
END:VCALENDAR