BEGIN:VCALENDAR
VERSION:2.0
PRODID:-//Urban Milwaukee - ECPv4.6.9//NONSGML v1.0//EN
CALSCALE:GREGORIAN
METHOD:PUBLISH
X-WR-CALNAME:Urban Milwaukee
X-ORIGINAL-URL:https://urbanmilwaukee.com
X-WR-CALDESC:Events for Urban Milwaukee
BEGIN:VEVENT
DTSTART;TZID=America/Chicago:20231105T090000
DTEND;TZID=America/Chicago:20231105T153000
DTSTAMP:20260419T130440
CREATED:20231102T041838Z
LAST-MODIFIED:20231102T041838Z
UID:750227-1699174800-1699198200@urbanmilwaukee.com
SUMMARY:Kidpreneur Fair
DESCRIPTION:Over 70 Kidpreneurs selling their products at 4 separate sessions (different kids at each). \nKidpreneur Fair is a market and share space for kids to sell their products and share their ideas and inventions. The focus is to –provide kids a positive entrepreneurial experience. \nSupport & encourage our local Kidpreneurs as they present their products\, ideas and inventions! \n
URL:https://urbanmilwaukee.com/event/kidpreneur-fair-3/
LOCATION:5205 W North Ave\, Milwaukee\, WI\, 53208\, United States
CATEGORIES:Arts & Entertainment,Kids
ATTACH;FMTTYPE=image/jpeg:https://urbanmilwaukee.com/wp-content/uploads/2023/10/2023-Kidpreneur-Fair-FLYERS-Print-scaled.jpg
END:VEVENT
END:VCALENDAR