BEGIN:VCALENDAR
VERSION:2.0
PRODID:-//Urban Milwaukee - ECPv4.6.9//NONSGML v1.0//EN
CALSCALE:GREGORIAN
METHOD:PUBLISH
X-WR-CALNAME:Urban Milwaukee
X-ORIGINAL-URL:https://urbanmilwaukee.com
X-WR-CALDESC:Events for Urban Milwaukee
BEGIN:VEVENT
DTSTART;TZID=America/Chicago:20210404T180000
DTEND;TZID=America/Chicago:20210404T180000
DTSTAMP:20260421T121928
CREATED:20210316T232048Z
LAST-MODIFIED:20210316T232048Z
UID:586571-1617559200-1617559200@urbanmilwaukee.com
SUMMARY:Keg Stand Up At Lakefront Brewery - TWO SHOWS!!
DESCRIPTION:Experience Lakefront Brewery like never before – as a comedy club. The beer hall is transformed to give you an intimate show full of fresh laughs and fresh beer. Enjoy table served food from a special menu only available during the show! Don’t worry\, the award-winning cheese curds are on it. \nDue to popular demand\, there will be 2 SHOWS! 6 p.m. and 8:30 p.m. Food menu available for the early show\, snack menu available for the late show and delicious beer on tap all night! \nDue to social distancing guidelines and to ensure the safety of our guests tickets are available PER TABLE. Tickets are $30 for 2 ($15/ person)\, $60 for a 4 person table and $90 for a table that seats up to 6 people. 21+ event \nIt is recommended to buy tickets in advance as this show will sell out. Have a question about tickets or seating? Contact us at info@milwaukeecomedy.com \n
URL:https://urbanmilwaukee.com/event/keg-stand-up-at-lakefront-brewery-two-shows/
LOCATION:1872 N. Commerce St.\, Milwaukee\, WI\, 53212\, United States
CATEGORIES:Comedy,Food & Drink
ATTACH;FMTTYPE=image/png:https://urbanmilwaukee.com/wp-content/uploads/2021/03/April-KSU-Facebook-Cover.png
END:VEVENT
END:VCALENDAR