BEGIN:VCALENDAR
VERSION:2.0
PRODID:-//Urban Milwaukee - ECPv4.6.9//NONSGML v1.0//EN
CALSCALE:GREGORIAN
METHOD:PUBLISH
X-WR-CALNAME:Urban Milwaukee
X-ORIGINAL-URL:https://urbanmilwaukee.com
X-WR-CALDESC:Events for Urban Milwaukee
BEGIN:VEVENT
DTSTART;TZID=America/Chicago:20230823T190000
DTEND;TZID=America/Chicago:20230823T233000
DTSTAMP:20260424T030321
CREATED:20230823T064841Z
LAST-MODIFIED:20230823T064841Z
UID:731179-1692817200-1692833400@urbanmilwaukee.com
SUMMARY:Katie Dahl Album Release Show
DESCRIPTION:Join Anodyne Coffee Roasting Co. for an even of live music celebrating the release of Katie Dahl’s latest studio album! \nKatie Dahl is a songwriter and playwright whose work is as expansive as Lake Michigan and as deeply rooted as its rocky coastal bluffs. A small-town celebrity on the Wisconsin peninsula where her family has lived for 175 years\, she is now a radio-charting folk artist who tours around the world. Clear-eyed and tough-minded\, fresh and funny\, Katie “delivers razor-sharp lyrics with a hearty\, soulful voice” (American Songwriter). \nTickets to the show are $15 in advance or $20 at the door. Advance tickets are available until 3 p.m. day of show. Doors open at 6 p.m. and the show begins at 7 p.m. \n
URL:https://urbanmilwaukee.com/event/katie-dahl-album-release-show/
LOCATION:224 W. Bruce St.\, Milwaukee\, WI\, 53204\, United States
CATEGORIES:Arts & Entertainment
ATTACH;FMTTYPE=image/jpeg:https://urbanmilwaukee.com/wp-content/uploads/2023/07/katie.jpg
ORGANIZER;CN="Anodyne%20Coffee%20Roasting%20Co.":MAILTO:erica@anodynecoffee.com
END:VEVENT
END:VCALENDAR