BEGIN:VCALENDAR
VERSION:2.0
PRODID:-//Urban Milwaukee - ECPv4.6.9//NONSGML v1.0//EN
CALSCALE:GREGORIAN
METHOD:PUBLISH
X-WR-CALNAME:Urban Milwaukee
X-ORIGINAL-URL:https://urbanmilwaukee.com
X-WR-CALDESC:Events for Urban Milwaukee
BEGIN:VEVENT
DTSTART;TZID=America/Chicago:20160909T181500
DTEND;TZID=America/Chicago:20160909T201500
DTSTAMP:20260424T060606
CREATED:20160828T010323Z
LAST-MODIFIED:20160828T010323Z
UID:179770-1473444900-1473452100@urbanmilwaukee.com
SUMMARY:Jose Conde - Solo Unplugged
DESCRIPTION:A Cuban American singer\, songwriter\, arranger\, multi-instrumentalist\, and producer based in Brooklyn\, NY\, Jose Conde leads the genre bending Latin band OLA FRESCA and his own solo project. Conde is a dynamic and electrifying performer engaging his audiences with stories\, rhythmic songs\, and dancing. Conde has been featured in Darling Harbor Latin Festival in Sydney Australia\, Montreal Jazz fest\, the New York Central Park Summer Stage\, and more. Conde moves international audiences substantially with his music. Join Café el Sol for La Peña\, featuring live Latin music and our famous Friday fish fry buffet. \n
URL:https://urbanmilwaukee.com/event/jose-conde-solo-unplugged/
CATEGORIES:Arts & Entertainment
ATTACH;FMTTYPE=image/png:https://urbanmilwaukee.com/wp-content/uploads/2016/08/Jose-Conde.png
END:VEVENT
END:VCALENDAR