BEGIN:VCALENDAR
VERSION:2.0
PRODID:-//Urban Milwaukee - ECPv4.6.9//NONSGML v1.0//EN
CALSCALE:GREGORIAN
METHOD:PUBLISH
X-WR-CALNAME:Urban Milwaukee
X-ORIGINAL-URL:https://urbanmilwaukee.com
X-WR-CALDESC:Events for Urban Milwaukee
BEGIN:VEVENT
DTSTART;TZID=America/Chicago:20160902T200000
DTEND;TZID=America/Chicago:20160902T230000
DTSTAMP:20260424T054349
CREATED:20160828T010129Z
LAST-MODIFIED:20160828T010129Z
UID:176889-1472846400-1472857200@urbanmilwaukee.com
SUMMARY:Jon Bayley\, Manic After Midnite\, Timothy and the Blind Fiction at Var Gallery
DESCRIPTION:Come join us for a night of slick n’ bluesy rock n roll\, indie pop\, and ethereal alternative music at Var Gallery & Studios with Nashville’s Jon Bayley\, Manic After Midnite\, and Milwaukee’s own Timothy and The Blind Fiction! This intimate location features local artwork in a beautiful artistic space equipped with a bar that supports live music. This show is all ages and has limited space\, so please arrive early and grab your spot by 8:00pm. $7.00 suggested cover at the door \nLineup:\nManic After Midnite\nJon Bayley\nTimothy Charles and the Blind Fiction \n
URL:https://urbanmilwaukee.com/event/jon-bayley-manic-after-midnite-timothy-and-the-blind-fiction-at-var-gallery/
LOCATION:643 S. 2nd St. \, Milwaukee\, WI\, 53204\, United States
CATEGORIES:Arts & Entertainment
ATTACH;FMTTYPE=image/jpeg:https://urbanmilwaukee.com/wp-content/uploads/2016/07/MAM_MKEposter.jpg
END:VEVENT
END:VCALENDAR