BEGIN:VCALENDAR
VERSION:2.0
PRODID:-//Urban Milwaukee - ECPv4.6.9//NONSGML v1.0//EN
CALSCALE:GREGORIAN
METHOD:PUBLISH
X-WR-CALNAME:Urban Milwaukee
X-ORIGINAL-URL:https://urbanmilwaukee.com
X-WR-CALDESC:Events for Urban Milwaukee
BEGIN:VEVENT
DTSTART;TZID=America/Chicago:20190111T190000
DTEND;TZID=America/Chicago:20190111T210000
DTSTAMP:20260423T235304
CREATED:20181013T174736Z
LAST-MODIFIED:20181013T174736Z
UID:423961-1547233200-1547240400@urbanmilwaukee.com
SUMMARY:Jeff Dunham
DESCRIPTION:Jeff Dunham is a global entertainment phenomenon with more than 46 years on stage and countless performances\, making him one the world’s most recognizable and inventive entertainers. Dunham along with his cast of hilarious characters is giving show in our city! \n
URL:https://urbanmilwaukee.com/event/jeff-dunham/
CATEGORIES:Arts & Entertainment
ATTACH;FMTTYPE=image/jpeg:https://urbanmilwaukee.com/wp-content/uploads/2018/10/Jeff_Dunham_5afbed336c4f2.jpg
END:VEVENT
END:VCALENDAR