BEGIN:VCALENDAR
VERSION:2.0
PRODID:-//Urban Milwaukee - ECPv4.6.9//NONSGML v1.0//EN
CALSCALE:GREGORIAN
METHOD:PUBLISH
X-WR-CALNAME:Urban Milwaukee
X-ORIGINAL-URL:https://urbanmilwaukee.com
X-WR-CALDESC:Events for Urban Milwaukee
BEGIN:VEVENT
DTSTART;TZID=America/Chicago:20210319T200000
DTEND;TZID=America/Chicago:20210319T213000
DTSTAMP:20260423T053255
CREATED:20210228T165735Z
LAST-MODIFIED:20210228T165735Z
UID:582361-1616184000-1616189400@urbanmilwaukee.com
SUMMARY:Jeanie Doogan Live At The Laughing Tap!!
DESCRIPTION:Jeanie Doogan started her career at the tender age of five when she quickly learned that as the youngest of eight children she needed a hook if she ever wanted to be fed\, bathed\, or have her existence acknowledged in any way. Failing miserably at tap dancing\, Irish dancing\, gymnastics\, and academics\, she carved out her comedy niche with kick-ass knock-knock jokes and soon rose to fame at the family dinner table with such classics as: “knock-knock.” “knock-knock.” “knock-knock! Open the door! You left me outside again!” Since her kitchen table debut\, Jeanie has entertained audiences at colleges\, casinos\, and corporate events\, and is a regular at venues such as Zanies Comedy Clubs\, The Laugh Factory\, and The Comedy Bar. She was highlighted in Chicago Parents’ Magazine’s Four of Chicago’s Funniest: Stand Up Parents\, and was featured on Nick Jr.’s Moms’ Night Out debut stand up special. \nJeanie has set herself apart with her quick observations and no-apology take on teaching\, parenthood\, and American culture. Her sharp wit draws on her experiences growing up on the South side of Chicago and 20 years as a public school teacher to deliver comedy that reaches audiences of all walks of life. \nTickets are $20 in person with limited seating or Live Stream for only $10/ household!\nDoors open at 7:30 p.m. / show at 8 p.m. \nLive stream details! If you purchase the Live Stream the day of the show\, the link will be included in your order confirmation email. Otherwise\, it will be emailed to you at 7 p.m. the day of the event (check your spam folder!). Tickets are ONLY $10 per household and the live stream show will start at 8 p.m. (with the camera turned on a few minutes before so you can get comfy!) \n
URL:https://urbanmilwaukee.com/event/jeanie-doogan-live-at-the-laughing-tap/
LOCATION:706B S. 5th St.\, Milwaukee\, WI\, 53204\, United States
CATEGORIES:Comedy,Virtual
ATTACH;FMTTYPE=image/png:https://urbanmilwaukee.com/wp-content/uploads/2021/02/February-Facebook-Covers.png
END:VEVENT
END:VCALENDAR