BEGIN:VCALENDAR
VERSION:2.0
PRODID:-//Urban Milwaukee - ECPv4.6.9//NONSGML v1.0//EN
CALSCALE:GREGORIAN
METHOD:PUBLISH
X-WR-CALNAME:Urban Milwaukee
X-ORIGINAL-URL:https://urbanmilwaukee.com
X-WR-CALDESC:Events for Urban Milwaukee
BEGIN:VEVENT
DTSTART;TZID=America/Chicago:20191105T200000
DTEND;TZID=America/Chicago:20191105T220000
DTSTAMP:20260424T102017
CREATED:20191021T051959Z
LAST-MODIFIED:20191021T051959Z
UID:476473-1572984000-1572991200@urbanmilwaukee.com
SUMMARY:JCC presents Mandy Patinkin in Concert: DIARIES
DESCRIPTION:JCC Tapestry: Arts & Ideas presents Tony and Emmy award artist Mandy Patinkin in a new concert\, DIARIES at the Riverside Theater on Tuesday\, November 5th. This fundraising concert will feature Mandy’s favorite Broadway and classic American tunes\, along with his newest recordings on Nonesuch Records\, and past DIARIES performances from 2018. The concert will benefit the JCC’s social justice and arts programming. Individual tickets are $39 – $90 and may be purchased at www.pabsttheater.org. \n
URL:https://urbanmilwaukee.com/event/jcc-presents-mandy-patinkin-in-concert-diaries/
LOCATION:116 W. Wisconsin Ave.\, Milwaukee\, WI\, 53203\, United States
CATEGORIES:Arts & Entertainment
ATTACH;FMTTYPE=image/jpeg:https://urbanmilwaukee.com/wp-content/uploads/2019/09/MandyKeyArt_sized_BW.jpg
END:VEVENT
END:VCALENDAR