BEGIN:VCALENDAR
VERSION:2.0
PRODID:-//Urban Milwaukee - ECPv4.6.9//NONSGML v1.0//EN
CALSCALE:GREGORIAN
METHOD:PUBLISH
X-WR-CALNAME:Urban Milwaukee
X-ORIGINAL-URL:https://urbanmilwaukee.com
X-WR-CALDESC:Events for Urban Milwaukee
BEGIN:VEVENT
DTSTART;TZID=America/Chicago:20230825T200000
DTEND;TZID=America/Chicago:20230825T233000
DTSTAMP:20260424T072749
CREATED:20230823T065518Z
LAST-MODIFIED:20230823T065518Z
UID:731186-1692993600-1693006200@urbanmilwaukee.com
SUMMARY:Jay Matthes CD Release with special guests Listening Party
DESCRIPTION:Join Anodyne Coffee Roasting Co. for an evening of live music celebrating the release of Jay Matthes’ new album! \nJay Matthes is an award-winning singer/songwriter from Milwaukee\, Wisconsin. His original music has been featured on local\, regional and national radio and television\, including daily rotation for ‘The Light’ music video on The Country Network. Jay ‘s music has been placed in advertisements for Brady Street Festival in Milwaukee and Blue Falcon Whiskey\, and he was the singer for Wisconsin State Fair’s WonderFair TV and radio commercials in 2018. \nJay’s newest full-length album ‘Loved and Lost and Found’ is filled with 11 new\, original songs about hope\, heartbreak and finding true love. The lyrics are true to his life and his own journey to meeting his now-wife Amanda. Sonically\, the music is a departure from ‘Dancing After Dark’ but lyrically\, fans can expect the same honesty they’ve come to expect from Jay’s music. ‘Loved and Lost and Found’ is available August 25. \nOver the last decade\, Milwaukee-based band Listening Party has sought to create songs that deeply resonate with their listeners. Their folk and Americana-steeped sound expertly and reverently takes the pulse and traditions of their genre while adding their own charm. Milwaukee-based Shepherd Express even compared the band to The Avett Brothers and The Lumineers. \nTickets are $20 in advance or $25 at the door. Advance tickets are availalb euntil 3 p.m. day of show. Ticket price includes a copy of the Jay Matthes new album. Doors open at 7 p.m. and the show begins at 8 p.m. \n
URL:https://urbanmilwaukee.com/event/jay-matthes-cd-release-with-special-guests-listening-party/
LOCATION:224 W. Bruce St.\, Milwaukee\, WI\, 53204\, United States
CATEGORIES:Arts & Entertainment
ATTACH;FMTTYPE=image/jpeg:https://urbanmilwaukee.com/wp-content/uploads/2023/07/jay-mathee.jpg
ORGANIZER;CN="Anodyne%20Coffee%20Roasting%20Co.":MAILTO:erica@anodynecoffee.com
END:VEVENT
END:VCALENDAR