BEGIN:VCALENDAR
VERSION:2.0
PRODID:-//Urban Milwaukee - ECPv4.6.9//NONSGML v1.0//EN
CALSCALE:GREGORIAN
METHOD:PUBLISH
X-WR-CALNAME:Urban Milwaukee
X-ORIGINAL-URL:https://urbanmilwaukee.com
X-WR-CALDESC:Events for Urban Milwaukee
BEGIN:VEVENT
DTSTART;TZID=America/Chicago:20190727T220000
DTEND;TZID=America/Chicago:20190727T230000
DTSTAMP:20260422T142002
CREATED:20190719T010257Z
LAST-MODIFIED:20190719T010257Z
UID:465204-1564264800-1564268400@urbanmilwaukee.com
SUMMARY:Janet O'Mahoney & Mark Thierfelder
DESCRIPTION:Janet Marie O’Mahony is an American vocalist known for her interpretations of R & B\, Blues\, Jazz and Folk classics. It’s an artist’s sound that will set them apart\, and Janet demonstrates power\, passion and grace all wrapped up into one voice. No matter what the venue or event\, Janet O’Mahony & Company combine their talents for a performance that is moving\, fun\, and of the highest caliber. \n
URL:https://urbanmilwaukee.com/event/janet-omahoney-mark-thierfelder/
LOCATION:139 E. Kilbourn Ave.\, Milwaukee\, WI\, 53202\, United States
CATEGORIES:Arts & Entertainment
ATTACH;FMTTYPE=image/jpeg:https://urbanmilwaukee.com/wp-content/uploads/2019/07/LUXI-1.jpg
END:VEVENT
END:VCALENDAR