BEGIN:VCALENDAR
VERSION:2.0
PRODID:-//Urban Milwaukee - ECPv4.6.9//NONSGML v1.0//EN
CALSCALE:GREGORIAN
METHOD:PUBLISH
X-WR-CALNAME:Urban Milwaukee
X-ORIGINAL-URL:https://urbanmilwaukee.com
X-WR-CALDESC:Events for Urban Milwaukee
BEGIN:VEVENT
DTSTART;TZID=America/Chicago:20170318T140000
DTEND;TZID=America/Chicago:20170318T170000
DTSTAMP:20260419T130821
CREATED:20170227T223746Z
LAST-MODIFIED:20170227T223746Z
UID:201960-1489845600-1489856400@urbanmilwaukee.com
SUMMARY:James Winn and Jim Rose - Opening reception
DESCRIPTION:Jim Rose combines timeless American traditions in beautifully hand crafted contemporary steel furniture and sculpture. Inspired by the colorful quilt work of the Gee’s Bend Quilters\, Rose employs fine woodworking techniques to create furniture made from sheets of steel and scrap metal. Like remnants of cloth that preserve family memories in quilts\, the discarded scraps of metal add rich color\, texture and history to Rose’s highly functional designs. \nExperience the presence of nature and revel in the beauty of flowers in new paintings by James Winn. Azaleas\, Irises\, and Lilies take center stage in the work of this Illinois artist. In contrast to his big sky landscapes\, Winn narrows the focus to bring you eye-to-eye with highly detailed portraits of flowers in full bloom. Through brilliant manipulation of light and color\, Winn also creates luminous fields of blooms set against striking dark backgrounds. \nBoth artists will be giving talks at 4 p.m. \n
URL:https://urbanmilwaukee.com/event/james-winn-and-jim-rose-opening-reception/
CATEGORIES:Arts & Entertainment
ATTACH;FMTTYPE=image/jpeg:https://urbanmilwaukee.com/wp-content/uploads/2017/02/Azalea-Study-12x12.jpg
END:VEVENT
END:VCALENDAR