BEGIN:VCALENDAR
VERSION:2.0
PRODID:-//Urban Milwaukee - ECPv4.6.9//NONSGML v1.0//EN
CALSCALE:GREGORIAN
METHOD:PUBLISH
X-WR-CALNAME:Urban Milwaukee
X-ORIGINAL-URL:https://urbanmilwaukee.com
X-WR-CALDESC:Events for Urban Milwaukee
BEGIN:VEVENT
DTSTART;TZID=America/Chicago:20180318T160000
DTEND;TZID=America/Chicago:20180318T180000
DTSTAMP:20260424T183051
CREATED:20171222T225419Z
LAST-MODIFIED:20171222T225419Z
UID:387218-1521388800-1521396000@urbanmilwaukee.com
SUMMARY:Jackie & Friends
DESCRIPTION:Jackie Nicholson will be joined by Jon and Cathy Piek for a mix of old and new bluegrass. Jackie\, playing guitar\, has a June Carter flair. \n
URL:https://urbanmilwaukee.com/event/jackie-friends/
CATEGORIES:Arts & Entertainment
ATTACH;FMTTYPE=image/jpeg:https://urbanmilwaukee.com/wp-content/uploads/2017/12/Jackie-and-Friends.jpe
END:VEVENT
END:VCALENDAR