BEGIN:VCALENDAR
VERSION:2.0
PRODID:-//Urban Milwaukee - ECPv4.6.9//NONSGML v1.0//EN
CALSCALE:GREGORIAN
METHOD:PUBLISH
X-WR-CALNAME:Urban Milwaukee
X-ORIGINAL-URL:https://urbanmilwaukee.com
X-WR-CALDESC:Events for Urban Milwaukee
BEGIN:VEVENT
DTSTART;TZID=America/Chicago:20251204T193000
DTEND;TZID=America/Chicago:20251204T193000
DTSTAMP:20260423T151243
CREATED:20251019T184006Z
LAST-MODIFIED:20251019T184109Z
UID:911496-1764876600-1764876600@urbanmilwaukee.com
SUMMARY:Irving Berlin's Holiday Inn
DESCRIPTION:Based on the Irving Berlin classic\, Holiday Inn tells the story of Jim\, a song-and-dance man who leaves showbiz behind for a quiet life on a farm—until he meets Linda\, a spirited schoolteacher with talent to spare. Together they transform the farmhouse into “Holiday Inn\,” an inn that comes alive with dazzling performances celebrating each holiday. But when Jim’s old partner Ted tries to lure Linda to Hollywood\, Jim must find the courage to fight for love and follow his heart. Filled with Irving Berlin classics\, it’s a year-round celebration of music\, romance\, and joy. \n
URL:https://urbanmilwaukee.com/event/irving-berlins-holiday-inn/
LOCATION:19700 W. Bluemound Rd.\, Brookfield\, WI\, 53045\, United States
CATEGORIES:Arts & Entertainment
ATTACH;FMTTYPE=image/jpeg:https://urbanmilwaukee.com/wp-content/uploads/2025/10/Irving-Berlins-Holiday-Inn.jpg
END:VEVENT
END:VCALENDAR