BEGIN:VCALENDAR
VERSION:2.0
PRODID:-//Urban Milwaukee - ECPv4.6.9//NONSGML v1.0//EN
CALSCALE:GREGORIAN
METHOD:PUBLISH
X-WR-CALNAME:Urban Milwaukee
X-ORIGINAL-URL:https://urbanmilwaukee.com
X-WR-CALDESC:Events for Urban Milwaukee
BEGIN:VEVENT
DTSTART;TZID=America/Chicago:20181215T193000
DTEND;TZID=America/Chicago:20181215T220000
DTSTAMP:20260425T102009
CREATED:20181110T104244Z
LAST-MODIFIED:20181110T104244Z
UID:428196-1544902200-1544911200@urbanmilwaukee.com
SUMMARY:Irish Singer Rory Makem at the Irish Cultural and Heritage Center
DESCRIPTION:One of the leading voices in the Irish song heritage\, Rory Makem will bring A Christmas Tradition concert to the Irish Cultural and Heritage Center\, 2133 W. Wisconsin Ave.\, Milwaukee on Saturday\, Dec. 15 at 7:30 p.m. \nBorn in County Louth\, Ireland\, Makem continues the lineage of an Irish music dynasty begun by his grandmother Sarah Makem\, who was sought after for her vast collection of Irish songs. His father\, the legendary Tommy Makem\, who died in 2007\, is widely known as the modern Bard of Armagh. Touring with the Clancy Brothers\, Tommy brought Irish music to an international audience beginning in the 1950s. \nA seasoned performer with more than 25 years on the road. Makem captivates audiences with his skilled musicianship\, his charisma and passion for the songs\, his extensive knowledge of poetry and history\, and his sense of humor. An adept interpreter of folk songs\, he is also a multi-instrumentalist. \nMakem is well known to Milwaukee audiences through frequent performances at Irish Fest accompanying his father and with Makem and Spain. Makem and Dónal Clancy\, son of the late Liam Clancy\, made their debut as a duo at the ICHC in 2017. \nNot limiting himself to the stage\, Makem has performed on movie soundtracks and his compositions can be heard woven into a number of PBS programs. He has recorded with many of the luminaries in folk music including Noel Paul Stookey\, Tom Paxton\, Schooner Fare and Gordon Bok. \nConcert tickets are $25 in advance\, $29 on concert day\, $10 for students with ID and free for ages 12 and under. For more information and to order tickets online\, go to www.ichc.net or call (414) 345-8800. \nThe Celtic Christmas Boutique and bake sale in the ICHC Parlour will begin prior to the concert at 6 p.m. and remain open during the concert and intermission. \nIrish Cultural and Heritage programs are supported in part by a grant from the Wisconsin Arts Board with funds from the State of Wisconsin and the National Endowment for the Arts. The ICHC supports the Irish community by serving as a venue dedicated to enhancing\, promoting and preserving Irish culture and heritage along with serving the community at large. The center\, housed in the landmark 1880s former Grand Avenue Congregational Church\, is the site for concerts\, art exhibits\, Irish dances and genealogical research. \n
URL:https://urbanmilwaukee.com/event/irish-singer-rory-makem-at-the-irish-cultural-and-heritage-center/
LOCATION:2133 W. Wisconsin Ave.\, Milwwaukee\, WI\, 53217\, United States
CATEGORIES:Arts & Entertainment
ATTACH;FMTTYPE=image/jpeg:https://urbanmilwaukee.com/wp-content/uploads/2018/11/35955014_2123144731288202_2688514179991601152_n-2.jpg
END:VEVENT
END:VCALENDAR