BEGIN:VCALENDAR
VERSION:2.0
PRODID:-//Urban Milwaukee - ECPv4.6.9//NONSGML v1.0//EN
CALSCALE:GREGORIAN
METHOD:PUBLISH
X-WR-CALNAME:Urban Milwaukee
X-ORIGINAL-URL:https://urbanmilwaukee.com
X-WR-CALDESC:Events for Urban Milwaukee
BEGIN:VEVENT
DTSTART;TZID=America/Chicago:20190413T193000
DTEND;TZID=America/Chicago:20190413T220000
DTSTAMP:20260423T173137
CREATED:20190313T205059Z
LAST-MODIFIED:20190313T205155Z
UID:444282-1555183800-1555192800@urbanmilwaukee.com
SUMMARY:Irish Band JigJam at the Irish Cultural and Heritage Center
DESCRIPTION:Blending the best of traditional Irish music with bluegrass and Americana\, the award winning quartet JigJam will bring their foot stomping show to the Irish Cultural and Heritage Center\, 2133 W. Wisconsin Ave.\, Milwaukee\, at 7:30 p.m. on Saturday\, April 13. \nHailing from Ireland’s Midlands\, their style in a genre branded “I-Grass” (Irish influenced bluegrass)\, along with onstage energy and superb musical ability\, has captivated audiences in Ireland\, the United Kingdom\, Europe and North America including Milwaukee Irish Fest. \nBand members Jamie McKeogh\, Cathal Guinean and Daithi Melia from Tullamore\, Co. Offaly and Tipperary-born Gavin Strappe\, grew up immersed in traditional Irish music and culture. Collectively they achieved over 20 All-Ireland titles at Fleadh Ceoil hÉireann competitions. Each a multi-instrumentalist\, their shows are fueled by the interchange between banjos\, guitars\, fiddles\, mandolins and double bass along with soaring vocals. Dressed sharply in ties\, jackets and vests\, their performances have been compared to the Punch Brothers by the European Bluegrass Music Association. \nJig Jam has released two studio produced albums\, Oh Boy and Hello World\, as well as Live in Tullamore. Phoenix\, a third studio album with  many original tunes\, is scheduled for release soon. \n“The words sparkling\, innovative and infectious come first to mind\, beyond that you get into an unadulterated display of accomplished musicianship\, skill and talent.”  – FolkWord \nTickets for the show are $29 in advance\, $33 on concert day\, $10 for students with ID at the door and free for ages 12 and younger. To order online\, visit www.ichc.net. Tickets may also be ordered by calling 414-345-8800 \n
URL:https://urbanmilwaukee.com/event/irish-band-jigjam-at-the-irish-cultural-and-heritage-center/
LOCATION:2133 W. Wisconsin Ave.\, Milwwaukee\, WI\, 53217\, United States
CATEGORIES:Arts & Entertainment
ATTACH;FMTTYPE=image/jpeg:https://urbanmilwaukee.com/wp-content/uploads/2019/03/1431601093.jpg
END:VEVENT
END:VCALENDAR