BEGIN:VCALENDAR
VERSION:2.0
PRODID:-//Urban Milwaukee - ECPv4.6.9//NONSGML v1.0//EN
CALSCALE:GREGORIAN
METHOD:PUBLISH
X-WR-CALNAME:Urban Milwaukee
X-ORIGINAL-URL:https://urbanmilwaukee.com
X-WR-CALDESC:Events for Urban Milwaukee
BEGIN:VEVENT
DTSTART;TZID=America/Chicago:20161119T193000
DTEND;TZID=America/Chicago:20161119T220000
DTSTAMP:20260424T115058
CREATED:20161004T121341Z
LAST-MODIFIED:20161004T121341Z
UID:185680-1479583800-1479592800@urbanmilwaukee.com
SUMMARY:Irish Band Bua at the Irish Cultural and Heritage Center
DESCRIPTION:A Chicago-based quartet of some of America’s most talented young musicians\, Bua brings the beauty and power of their critically acclaimed traditional Irish music in a return visit to the ICHC. “(Bua) can … raise the rafters with their playing\, charm with their singing and delight with their contemporary energy.” -Dirty Linen \n
URL:https://urbanmilwaukee.com/event/irish-band-bua-at-the-irish-cultural-and-heritage-center/
CATEGORIES:Arts & Entertainment
ATTACH;FMTTYPE=image/jpeg:https://urbanmilwaukee.com/wp-content/uploads/2016/10/Bua_01871.jpg
END:VEVENT
END:VCALENDAR