BEGIN:VCALENDAR
VERSION:2.0
PRODID:-//Urban Milwaukee - ECPv4.6.9//NONSGML v1.0//EN
CALSCALE:GREGORIAN
METHOD:PUBLISH
X-WR-CALNAME:Urban Milwaukee
X-ORIGINAL-URL:https://urbanmilwaukee.com
X-WR-CALDESC:Events for Urban Milwaukee
BEGIN:VEVENT
DTSTART;TZID=America/Chicago:20230210T160000
DTEND;TZID=America/Chicago:20230210T173000
DTSTAMP:20260423T004853
CREATED:20230127T064051Z
LAST-MODIFIED:20230127T064051Z
UID:701715-1676044800-1676050200@urbanmilwaukee.com
SUMMARY:Introduction to Zen Practice
DESCRIPTION:Join Reverend Reirin Alheidis Gumbel\, Resident Priest at the Milwaukee Zen Center\, at WAM for a guided meditation. \nAbout WAM: The Warehouse Art Museum (WAM) is located at 1635 W. St. Paul Ave\, Milwaukee. Exhibitions\, performances\, and lectures are based on The Warehouse Art Museum’s permanent collection of over 7\,300 modern and contemporary works on paper\, paintings\, photography and sculpture. The collection is available for scholars\, students and art enthusiasts\, and works are available for institutional loans. For more information\, please visit wammke.org or call 414-252-0677. \nAdmission to WAM is always free. Masks are required. \n
URL:https://urbanmilwaukee.com/event/introduction-to-zen-practice/
CATEGORIES:Arts & Entertainment,Health
ATTACH;FMTTYPE=image/jpeg:https://urbanmilwaukee.com/wp-content/uploads/2023/01/RGzenbannerArtboard-1-100.jpg
END:VEVENT
END:VCALENDAR