BEGIN:VCALENDAR
VERSION:2.0
PRODID:-//Urban Milwaukee - ECPv4.6.9//NONSGML v1.0//EN
CALSCALE:GREGORIAN
METHOD:PUBLISH
X-WR-CALNAME:Urban Milwaukee
X-ORIGINAL-URL:https://urbanmilwaukee.com
X-WR-CALDESC:Events for Urban Milwaukee
BEGIN:VEVENT
DTSTART;TZID=America/Chicago:20170508T190000
DTEND;TZID=America/Chicago:20170508T203000
DTSTAMP:20260420T151104
CREATED:20170420T181923Z
LAST-MODIFIED:20170420T181923Z
UID:208157-1494270000-1494275400@urbanmilwaukee.com
SUMMARY:Introduction to Food Preservation
DESCRIPTION:Discover the benefits and challenges of various food preservation techniques with an emphasis on hot water bath canning. Enjoy this lecture and demonstration (no hands-on work) and bring home plenty of handouts\, recipes and helpful tips. This class is the basis for all other canning classes this year. Register by May 5\, 5 p.m. \n
URL:https://urbanmilwaukee.com/event/introduction-to-food-preservation/
CATEGORIES:Food & Drink
ATTACH;FMTTYPE=image/jpeg:https://urbanmilwaukee.com/wp-content/uploads/2017/04/Food-Preservation-Series.jpg
END:VEVENT
END:VCALENDAR