BEGIN:VCALENDAR
VERSION:2.0
PRODID:-//Urban Milwaukee - ECPv4.6.9//NONSGML v1.0//EN
CALSCALE:GREGORIAN
METHOD:PUBLISH
X-WR-CALNAME:Urban Milwaukee
X-ORIGINAL-URL:https://urbanmilwaukee.com
X-WR-CALDESC:Events for Urban Milwaukee
BEGIN:VEVENT
DTSTART;TZID=America/Chicago:20191206T160000
DTEND;TZID=America/Chicago:20191206T200000
DTSTAMP:20260422T200457
CREATED:20191020T164244Z
LAST-MODIFIED:20191020T164244Z
UID:480432-1575648000-1575662400@urbanmilwaukee.com
SUMMARY:International Gift Shop
DESCRIPTION:This year marks the 48th anniversary of the Milwaukee Friends Meeting International Gift Shop. \nHoliday shoppers discover a diverse variety of gift and practical items\, including pottery\, bowls\, and baskets\, Vintage collectables\, Urban wildlife cards and calendars\, Artisan-crafted jewelry\, Homemade jams and preserves\, Ceramic dishware and tiles\, Rugs and scarves\, Artisanal chocolate confections\, Original and unique cards and pins\, Pottery and functional stoneware\, Toys and handmade gifts\, Clothing for adults and children\, Calendars\, buttons\, bumper stickers\, Handmade designer soaps\, Purses and tote bags\, Fairtrade products and much\, much more! \nAll proceeds benefit peace and social justice efforts at home and around the world. Major credit cards accepted. Friends Café on lower level serves coffee\, tea\, homemade soup\, bread and sweets for cash or check. \n
URL:https://urbanmilwaukee.com/event/international-gift-shop/
LOCATION:3224 N. Gordon Place\, Milwaukee\, WI\, 53212\, United States
CATEGORIES:Arts & Entertainment
ATTACH;FMTTYPE=image/png:https://urbanmilwaukee.com/wp-content/uploads/2019/10/Screen-Shot-2019-10-18-at-4.47.54-PM.png
END:VEVENT
END:VCALENDAR