BEGIN:VCALENDAR
VERSION:2.0
PRODID:-//Urban Milwaukee - ECPv4.6.9//NONSGML v1.0//EN
CALSCALE:GREGORIAN
METHOD:PUBLISH
X-WR-CALNAME:Urban Milwaukee
X-ORIGINAL-URL:https://urbanmilwaukee.com
X-WR-CALDESC:Events for Urban Milwaukee
BEGIN:VEVENT
DTSTART;TZID=America/Chicago:20171201T190000
DTEND;TZID=America/Chicago:20171201T204500
DTSTAMP:20260423T071545
CREATED:20171130T135813Z
LAST-MODIFIED:20171130T135813Z
UID:384105-1512154800-1512161100@urbanmilwaukee.com
SUMMARY:In Between (Bar Bahar)
DESCRIPTION:THIS SCREENING IS FREE FOR UWM STUDENTS AND UNION CINEMA MEMBERS \n$5 General Admission \nMilwaukee Premiere! \nIn Between tells the story of three Palestinian women attempting to balance faith and tradition with their modern lives while living in the heart of Tel Aviv. “A discovery at this year’s Toronto International Film Festival\, In Between hails from Israel\, and is one of the best recent films to come out of that country\, or anywhere for that matter.” – Film-Forward.com \n(Maysaloun Hamoud\, Israel\, Hebrew w/Eng. Sub.\, 103 min\, DCP\, 2016) \n
URL:https://urbanmilwaukee.com/event/in-between-bar-bahar/
LOCATION:2200 E. Kenwood Blvd.\, Milwaukee\, WI\, 53211\, United States
CATEGORIES:Arts & Entertainment
ATTACH;FMTTYPE=image/png:https://urbanmilwaukee.com/wp-content/uploads/2017/11/InBetween-e1506023985667.png
END:VEVENT
END:VCALENDAR