BEGIN:VCALENDAR
VERSION:2.0
PRODID:-//Urban Milwaukee - ECPv4.6.9//NONSGML v1.0//EN
CALSCALE:GREGORIAN
METHOD:PUBLISH
X-WR-CALNAME:Urban Milwaukee
X-ORIGINAL-URL:https://urbanmilwaukee.com
X-WR-CALDESC:Events for Urban Milwaukee
BEGIN:VEVENT
DTSTART;TZID=America/Chicago:20190727T180000
DTEND;TZID=America/Chicago:20190727T180000
DTSTAMP:20260422T200605
CREATED:20190810T033434Z
LAST-MODIFIED:20190810T033434Z
UID:464965-1564250400-1564250400@urbanmilwaukee.com
SUMMARY:Ignite: A Hip Hop Dance Experience
DESCRIPTION:Ignite continues to blow up the Danceworks Studio Theatre with the area’s best and most exciting hip hop crews for the 7th year in a row! These high energy performances are a DanceLAB favorite. \nTicket Info: \nAdvanced Purchase Tickets: Reserved Seating $19 // General Admission $16 // Student\, Senior & Military $12 \nWalk Up Tickets: General Admission $19 // Student\, Senior & Military $14 \n
URL:https://urbanmilwaukee.com/event/ignite-a-hip-hop-dance-experience/
LOCATION:1661 N. Water St.\, Milwaukee\, WI\, 53202\, United States
CATEGORIES:Arts & Entertainment
ATTACH;FMTTYPE=image/png:https://urbanmilwaukee.com/wp-content/uploads/2019/07/unnamed-1.png
END:VEVENT
END:VCALENDAR