BEGIN:VCALENDAR
VERSION:2.0
PRODID:-//Urban Milwaukee - ECPv4.6.9//NONSGML v1.0//EN
CALSCALE:GREGORIAN
METHOD:PUBLISH
X-WR-CALNAME:Urban Milwaukee
X-ORIGINAL-URL:https://urbanmilwaukee.com
X-WR-CALDESC:Events for Urban Milwaukee
BEGIN:VEVENT
DTSTART;TZID=America/Chicago:20171012T160000
DTEND;TZID=America/Chicago:20171012T200000
DTSTAMP:20260423T174433
CREATED:20171006T172611Z
LAST-MODIFIED:20171006T172611Z
UID:377918-1507824000-1507838400@urbanmilwaukee.com
SUMMARY:Hurricane Relief Happy Hour
DESCRIPTION:During this time\, 50% of ALL profits from Mason Streets Grill’s bar area will be donated to the American Red Cross to support victims of the recent hurricanes.\nCome join us for live music\, tasty bar snacks\, and drinks to help those in need!\nRaffle tickets available to win prizes! \n
URL:https://urbanmilwaukee.com/event/hurricane-relief-happy-hour/
CATEGORIES:Food & Drink
ATTACH;FMTTYPE=image/jpeg:https://urbanmilwaukee.com/wp-content/uploads/2017/10/HUR-IMG6.jpg
END:VEVENT
END:VCALENDAR