BEGIN:VCALENDAR
VERSION:2.0
PRODID:-//Urban Milwaukee - ECPv4.6.9//NONSGML v1.0//EN
CALSCALE:GREGORIAN
METHOD:PUBLISH
X-WR-CALNAME:Urban Milwaukee
X-ORIGINAL-URL:https://urbanmilwaukee.com
X-WR-CALDESC:Events for Urban Milwaukee
BEGIN:VEVENT
DTSTART;TZID=America/Chicago:20181209T120000
DTEND;TZID=America/Chicago:20181209T180000
DTSTAMP:20260426T012215
CREATED:20181130T184227Z
LAST-MODIFIED:20181130T184333Z
UID:429848-1544356800-1544378400@urbanmilwaukee.com
SUMMARY:Hover Craft
DESCRIPTION:Join us for Hover Craft: A Holiday Shopping Extravaganza showcasing the work of over 100 artists\, crafters\, makers and designers. \nIn its 9th season\, Hovercraft connects holiday shoppers to one-of-a-kind handmade vendors at the Historic Pritzlaff Building. \nHovercraft is Milwaukee’s premiere holiday shopping marketplace connecting independent artists\, crafters\, makers\, and designers with individuals looking for high-quality and unique handmade gifts. For the third year in a row\, Hovercraft will host over 100 vendors at the Historic Pritzlaff Building in Downtown Milwaukee. \n$5\, Children are free \n
URL:https://urbanmilwaukee.com/event/hover-craft/
LOCATION:143 W. St Paul Ave.\, Milwaukee\, WI\, 53203\, United States
CATEGORIES:Arts & Entertainment
ATTACH;FMTTYPE=image/jpeg:https://urbanmilwaukee.com/wp-content/uploads/2018/11/43288939_1638254932941770_5048601350548488192_o.jpg
END:VEVENT
END:VCALENDAR